Package: siggenes Version: 1.78.0 Command: /Library/Frameworks/R.framework/Resources/bin/R CMD build --keep-empty-dirs --no-resave-data siggenes StartedAt: 2024-10-16 23:20:15 -0400 (Wed, 16 Oct 2024) EndedAt: 2024-10-16 23:21:45 -0400 (Wed, 16 Oct 2024) EllapsedTime: 90.3 seconds RetCode: 0 Status: OK PackageFile: siggenes_1.78.0.tar.gz PackageFileSize: 744.8 KiB