Package: siggenes Version: 1.78.0 Command: /home/biocbuild/bbs-3.19-bioc/R/bin/R CMD build --keep-empty-dirs --no-resave-data siggenes StartedAt: 2024-10-16 20:50:46 -0400 (Wed, 16 Oct 2024) EndedAt: 2024-10-16 20:51:13 -0400 (Wed, 16 Oct 2024) EllapsedTime: 27.1 seconds RetCode: 0 Status: OK PackageFile: siggenes_1.78.0.tar.gz PackageFileSize: 513.5 KiB