Package: sights Version: 1.30.0 Command: /home/biocbuild/bbs-3.19-bioc/R/bin/R CMD build --keep-empty-dirs --no-resave-data sights StartedAt: 2024-10-16 20:50:51 -0400 (Wed, 16 Oct 2024) EndedAt: 2024-10-16 20:51:24 -0400 (Wed, 16 Oct 2024) EllapsedTime: 33.1 seconds RetCode: 0 Status: OK PackageFile: sights_1.30.0.tar.gz PackageFileSize: 5.117 MiB