Package: signatureSearch Version: 1.18.0 Command: /Library/Frameworks/R.framework/Resources/bin/R CMD build --keep-empty-dirs --no-resave-data signatureSearch StartedAt: 2024-10-17 09:18:47 -0400 (Thu, 17 Oct 2024) EndedAt: 2024-10-17 09:30:06 -0400 (Thu, 17 Oct 2024) EllapsedTime: 679.2 seconds RetCode: 0 Status: OK PackageFile: signatureSearch_1.18.0.tar.gz PackageFileSize: 5.288 MiB