Package: signatureSearch Version: 1.18.0 Command: /Library/Frameworks/R.framework/Resources/bin/R CMD INSTALL signatureSearch StartedAt: 2024-10-16 17:55:37 -0400 (Wed, 16 Oct 2024) EndedAt: 2024-10-16 17:58:02 -0400 (Wed, 16 Oct 2024) EllapsedTime: 145.1 seconds RetCode: 0 Status: OK