Package: signatureSearch Version: 1.18.0 Command: rm -rf signatureSearch.buildbin-libdir && mkdir signatureSearch.buildbin-libdir && /Users/biocbuild/BBS/utils/build-universal.sh signatureSearch_1.18.0.tar.gz /Library/Frameworks/R.framework/Resources/bin/R signatureSearch.buildbin-libdir StartedAt: 2024-06-11 13:15:30 -0400 (Tue, 11 Jun 2024) EndedAt: 2024-06-11 13:19:16 -0400 (Tue, 11 Jun 2024) EllapsedTime: 225.5 seconds RetCode: 0 Status: OK PackageFile: signatureSearch_1.18.0.tgz PackageFileSize: 87.05 MiB