Package: signatureSearch Version: 1.18.0 Command: rm -rf signatureSearch.buildbin-libdir && mkdir signatureSearch.buildbin-libdir && /Users/biocbuild/BBS/utils/build-universal.sh signatureSearch_1.18.0.tar.gz /Library/Frameworks/R.framework/Resources/bin/R signatureSearch.buildbin-libdir StartedAt: 2024-10-17 17:12:35 -0400 (Thu, 17 Oct 2024) EndedAt: 2024-10-17 17:17:03 -0400 (Thu, 17 Oct 2024) EllapsedTime: 268.4 seconds RetCode: 0 Status: OK PackageFile: signatureSearch_1.18.0.tgz PackageFileSize: 87.05 MiB