Package: signatureSearch Version: 1.18.0 Command: /Library/Frameworks/R.framework/Resources/bin/R CMD INSTALL signatureSearch StartedAt: 2024-10-16 16:19:07 -0400 (Wed, 16 Oct 2024) EndedAt: 2024-10-16 16:23:08 -0400 (Wed, 16 Oct 2024) EllapsedTime: 240.9 seconds RetCode: 0 Status: OK