Package: signatureSearch Version: 1.18.0 Command: chmod a+r signatureSearch -R && F:\biocbuild\bbs-3.19-bioc\R\bin\R.exe CMD build --keep-empty-dirs --no-resave-data signatureSearch StartedAt: 2024-06-26 21:57:36 -0400 (Wed, 26 Jun 2024) EndedAt: 2024-06-26 22:09:51 -0400 (Wed, 26 Jun 2024) EllapsedTime: 734.9 seconds RetCode: 0 Status: OK PackageFile: signatureSearch_1.18.0.tar.gz PackageFileSize: 4.926 MiB