Package: signatureSearch Version: 1.18.0 Command: rm -rf signatureSearch.buildbin-libdir && mkdir signatureSearch.buildbin-libdir && E:\biocbuild\bbs-3.19-bioc\R\bin\R.exe CMD INSTALL --build --library=signatureSearch.buildbin-libdir signatureSearch_1.18.0.tar.gz StartedAt: 2024-10-17 08:38:47 -0400 (Thu, 17 Oct 2024) EndedAt: 2024-10-17 08:44:30 -0400 (Thu, 17 Oct 2024) EllapsedTime: 342.9 seconds RetCode: 0 Status: OK PackageFile: signatureSearch_1.18.0.zip PackageFileSize: 85.13 MiB