Package: signeR Version: 2.6.0 Command: rm -rf signeR.buildbin-libdir && mkdir signeR.buildbin-libdir && F:\biocbuild\bbs-3.19-bioc\R\bin\R.exe CMD INSTALL --build --library=signeR.buildbin-libdir signeR_2.6.0.tar.gz StartedAt: 2024-06-27 08:55:50 -0400 (Thu, 27 Jun 2024) EndedAt: 2024-06-27 08:58:04 -0400 (Thu, 27 Jun 2024) EllapsedTime: 134.4 seconds RetCode: 0 Status: OK PackageFile: signeR_2.6.0.zip PackageFileSize: 2.875 MiB