Package: signeR Version: 2.6.0 Command: chmod a+r signeR -R && F:\biocbuild\bbs-3.19-bioc\R\bin\R.exe CMD build --keep-empty-dirs --no-resave-data signeR StartedAt: 2024-06-26 21:57:42 -0400 (Wed, 26 Jun 2024) EndedAt: 2024-06-26 22:02:52 -0400 (Wed, 26 Jun 2024) EllapsedTime: 309.5 seconds RetCode: 0 Status: OK PackageFile: signeR_2.6.0.tar.gz PackageFileSize: 2.482 MiB