Package: signeR Version: 2.6.0 Command: rm -rf signeR.buildbin-libdir && mkdir signeR.buildbin-libdir && E:\biocbuild\bbs-3.19-bioc\R\bin\R.exe CMD INSTALL --build --library=signeR.buildbin-libdir signeR_2.6.0.tar.gz StartedAt: 2024-10-17 08:38:49 -0400 (Thu, 17 Oct 2024) EndedAt: 2024-10-17 08:40:48 -0400 (Thu, 17 Oct 2024) EllapsedTime: 119.0 seconds RetCode: 0 Status: OK PackageFile: signeR_2.6.0.zip PackageFileSize: 2.875 MiB