Package: signeR Version: 2.6.0 Command: E:\biocbuild\bbs-3.19-bioc\R\bin\R.exe CMD INSTALL signeR StartedAt: 2024-10-16 17:21:51 -0400 (Wed, 16 Oct 2024) EndedAt: 2024-10-16 17:24:23 -0400 (Wed, 16 Oct 2024) EllapsedTime: 152.7 seconds RetCode: 0 Status: OK