Package: simPIC Version: 1.0.0 Command: /Library/Frameworks/R.framework/Resources/bin/R CMD check --install=check:simPIC.install-out.txt --library=/Library/Frameworks/R.framework/Resources/library --no-vignettes --timings simPIC_1.0.0.tar.gz StartedAt: 2024-06-11 05:51:07 -0400 (Tue, 11 Jun 2024) EndedAt: 2024-06-11 05:57:12 -0400 (Tue, 11 Jun 2024) EllapsedTime: 364.7 seconds RetCode: 0 Status: OK CheckDir: simPIC.Rcheck Warnings: 0