Package: simPIC Version: 1.0.0 Command: rm -rf simPIC.buildbin-libdir && mkdir simPIC.buildbin-libdir && /Users/biocbuild/BBS/utils/build-universal.sh simPIC_1.0.0.tar.gz /Library/Frameworks/R.framework/Resources/bin/R simPIC.buildbin-libdir StartedAt: 2024-06-10 00:40:26 -0400 (Mon, 10 Jun 2024) EndedAt: 2024-06-10 00:41:00 -0400 (Mon, 10 Jun 2024) EllapsedTime: 34.2 seconds RetCode: 0 Status: OK PackageFile: simPIC_1.0.0.tgz PackageFileSize: 2.373 MiB