Package: simPIC Version: 1.0.0 Command: /Library/Frameworks/R.framework/Resources/bin/R CMD check --install=check:simPIC.install-out.txt --library=/Library/Frameworks/R.framework/Resources/library --no-vignettes --timings simPIC_1.0.0.tar.gz StartedAt: 2024-06-09 23:07:00 -0400 (Sun, 09 Jun 2024) EndedAt: 2024-06-09 23:10:28 -0400 (Sun, 09 Jun 2024) EllapsedTime: 208.3 seconds RetCode: 0 Status: OK CheckDir: simPIC.Rcheck Warnings: 0