Package: simPIC Version: 1.0.0 Command: chmod a+r simPIC -R && E:\biocbuild\bbs-3.19-bioc\R\bin\R.exe CMD build --keep-empty-dirs --no-resave-data simPIC StartedAt: 2024-10-16 21:59:09 -0400 (Wed, 16 Oct 2024) EndedAt: 2024-10-16 22:00:34 -0400 (Wed, 16 Oct 2024) EllapsedTime: 85.2 seconds RetCode: 0 Status: OK PackageFile: simPIC_1.0.0.tar.gz PackageFileSize: 1.105 MiB