Package: sincell Version: 1.36.0 Maintainer: Miguel Julia , Antonio Rausell MaintainerEmail: antonio.rausell at institutimagine.org git_url: https://git.bioconductor.org/packages/sincell git_branch: RELEASE_3_19 git_last_commit: a3bbfa6 git_last_commit_date: 2024-04-30 10:41:34 -0400 (Tue, 30 Apr 2024)