Package: sincell Version: 1.36.0 Command: /Library/Frameworks/R.framework/Resources/bin/R CMD build --keep-empty-dirs --no-resave-data sincell StartedAt: 2024-10-16 23:23:34 -0400 (Wed, 16 Oct 2024) EndedAt: 2024-10-16 23:31:24 -0400 (Wed, 16 Oct 2024) EllapsedTime: 470.8 seconds RetCode: 0 Status: OK PackageFile: sincell_1.36.0.tar.gz PackageFileSize: 1.183 MiB