Package: sincell Version: 1.36.0 Command: rm -rf sincell.buildbin-libdir && mkdir sincell.buildbin-libdir && E:\biocbuild\bbs-3.19-bioc\R\bin\R.exe CMD INSTALL --build --library=sincell.buildbin-libdir sincell_1.36.0.tar.gz StartedAt: 2024-10-17 08:39:41 -0400 (Thu, 17 Oct 2024) EndedAt: 2024-10-17 08:40:14 -0400 (Thu, 17 Oct 2024) EllapsedTime: 32.6 seconds RetCode: 0 Status: OK PackageFile: sincell_1.36.0.zip PackageFileSize: 1.348 MiB