Package: sincell Version: 1.36.0 Command: chmod a+r sincell -R && E:\biocbuild\bbs-3.19-bioc\R\bin\R.exe CMD build --keep-empty-dirs --no-resave-data sincell StartedAt: 2024-10-16 21:59:31 -0400 (Wed, 16 Oct 2024) EndedAt: 2024-10-16 22:07:58 -0400 (Wed, 16 Oct 2024) EllapsedTime: 507.1 seconds RetCode: 0 Status: OK PackageFile: sincell_1.36.0.tar.gz PackageFileSize: 952.1 KiB