Package: single Version: 1.8.0 Command: /Library/Frameworks/R.framework/Resources/bin/R CMD build --keep-empty-dirs --no-resave-data single StartedAt: 2024-10-17 09:25:23 -0400 (Thu, 17 Oct 2024) EndedAt: 2024-10-17 09:27:30 -0400 (Thu, 17 Oct 2024) EllapsedTime: 127.0 seconds RetCode: 0 Status: OK PackageFile: single_1.8.0.tar.gz PackageFileSize: 1.392 MiB