Package: single Version: 1.8.0 Command: rm -rf single.buildbin-libdir && mkdir single.buildbin-libdir && /Users/biocbuild/BBS/utils/build-universal.sh single_1.8.0.tar.gz /Library/Frameworks/R.framework/Resources/bin/R single.buildbin-libdir StartedAt: 2024-06-11 13:16:39 -0400 (Tue, 11 Jun 2024) EndedAt: 2024-06-11 13:17:32 -0400 (Tue, 11 Jun 2024) EllapsedTime: 53.3 seconds RetCode: 0 Status: OK PackageFile: single_1.8.0.tgz PackageFileSize: 1.407 MiB