Package: single Version: 1.8.0 Command: /home/biocbuild/bbs-3.19-bioc/R/bin/R CMD build --keep-empty-dirs --no-resave-data single StartedAt: 2024-10-16 20:52:37 -0400 (Wed, 16 Oct 2024) EndedAt: 2024-10-16 20:53:59 -0400 (Wed, 16 Oct 2024) EllapsedTime: 82.2 seconds RetCode: 0 Status: OK PackageFile: single_1.8.0.tar.gz PackageFileSize: 1.392 MiB