Package: sitadela Version: 1.12.0 Command: /Library/Frameworks/R.framework/Resources/bin/R CMD build --keep-empty-dirs --no-resave-data sitadela StartedAt: 2024-06-10 05:02:20 -0400 (Mon, 10 Jun 2024) EndedAt: 2024-06-10 05:06:46 -0400 (Mon, 10 Jun 2024) EllapsedTime: 265.8 seconds RetCode: 0 Status: OK PackageFile: sitadela_1.12.0.tar.gz PackageFileSize: 485 KiB