Package: sitadela Version: 1.12.0 Command: rm -rf sitadela.buildbin-libdir && mkdir sitadela.buildbin-libdir && /Users/biocbuild/BBS/utils/build-universal.sh sitadela_1.12.0.tar.gz /Library/Frameworks/R.framework/Resources/bin/R sitadela.buildbin-libdir StartedAt: 2024-10-17 17:13:54 -0400 (Thu, 17 Oct 2024) EndedAt: 2024-10-17 17:15:29 -0400 (Thu, 17 Oct 2024) EllapsedTime: 95.1 seconds RetCode: 0 Status: OK PackageFile: sitadela_1.12.0.tgz PackageFileSize: 714.6 KiB