Package: sitadela Version: 1.12.0 Command: /home/biocbuild/bbs-3.19-bioc/R/bin/R CMD build --keep-empty-dirs --no-resave-data sitadela StartedAt: 2024-10-16 20:53:59 -0400 (Wed, 16 Oct 2024) EndedAt: 2024-10-16 20:56:28 -0400 (Wed, 16 Oct 2024) EllapsedTime: 149.3 seconds RetCode: 0 Status: OK PackageFile: sitadela_1.12.0.tar.gz PackageFileSize: 485.1 KiB