Package: sitadela Version: 1.12.0 Command: rm -rf sitadela.buildbin-libdir && mkdir sitadela.buildbin-libdir && E:\biocbuild\bbs-3.19-bioc\R\bin\R.exe CMD INSTALL --build --library=sitadela.buildbin-libdir sitadela_1.12.0.tar.gz StartedAt: 2024-10-17 08:39:59 -0400 (Thu, 17 Oct 2024) EndedAt: 2024-10-17 08:40:51 -0400 (Thu, 17 Oct 2024) EllapsedTime: 52.3 seconds RetCode: 0 Status: OK PackageFile: sitadela_1.12.0.zip PackageFileSize: 719.8 KiB