Package: sketchR Version: 1.0.0 Command: rm -rf sketchR.buildbin-libdir && mkdir sketchR.buildbin-libdir && /Users/biocbuild/BBS/utils/build-universal.sh sketchR_1.0.0.tar.gz /Library/Frameworks/R.framework/Resources/bin/R sketchR.buildbin-libdir StartedAt: 2024-10-15 20:22:42 -0400 (Tue, 15 Oct 2024) EndedAt: 2024-10-15 20:23:07 -0400 (Tue, 15 Oct 2024) EllapsedTime: 24.8 seconds RetCode: 0 Status: OK PackageFile: sketchR_1.0.0.tgz PackageFileSize: 1.185 MiB