Package: sketchR Version: 1.0.0 Command: F:\biocbuild\bbs-3.19-bioc\R\bin\R.exe CMD check --no-multiarch --install=check:sketchR.install-out.txt --library=F:\biocbuild\bbs-3.19-bioc\R\library --no-vignettes --timings sketchR_1.0.0.tar.gz StartedAt: 2024-06-27 06:18:17 -0400 (Thu, 27 Jun 2024) EndedAt: 2024-06-27 06:22:01 -0400 (Thu, 27 Jun 2024) EllapsedTime: 224.0 seconds RetCode: 0 Status: OK CheckDir: sketchR.Rcheck Warnings: 0