Package: skewr Version: 1.36.0 Command: /Library/Frameworks/R.framework/Resources/bin/R CMD INSTALL skewr StartedAt: 2024-06-09 17:35:14 -0400 (Sun, 09 Jun 2024) EndedAt: 2024-06-09 17:36:31 -0400 (Sun, 09 Jun 2024) EllapsedTime: 77.2 seconds RetCode: 0 Status: OK