Package: smartid Version: 1.0.2 Command: /Library/Frameworks/R.framework/Resources/bin/R CMD build --keep-empty-dirs --no-resave-data smartid StartedAt: 2024-10-17 09:35:00 -0400 (Thu, 17 Oct 2024) EndedAt: 2024-10-17 09:36:23 -0400 (Thu, 17 Oct 2024) EllapsedTime: 83.5 seconds RetCode: 0 Status: OK PackageFile: smartid_1.0.2.tar.gz PackageFileSize: 2.013 MiB