Package: smartid Version: 1.0.2 Command: /Library/Frameworks/R.framework/Resources/bin/R CMD INSTALL smartid StartedAt: 2024-10-16 17:50:54 -0400 (Wed, 16 Oct 2024) EndedAt: 2024-10-16 17:51:21 -0400 (Wed, 16 Oct 2024) EllapsedTime: 27.1 seconds RetCode: 0 Status: OK