Package: smartid Version: 1.0.2 Command: rm -rf smartid.buildbin-libdir && mkdir smartid.buildbin-libdir && /Users/biocbuild/BBS/utils/build-universal.sh smartid_1.0.2.tar.gz /Library/Frameworks/R.framework/Resources/bin/R smartid.buildbin-libdir StartedAt: 2024-06-11 13:19:22 -0400 (Tue, 11 Jun 2024) EndedAt: 2024-06-11 13:20:08 -0400 (Tue, 11 Jun 2024) EllapsedTime: 46.6 seconds RetCode: 0 Status: OK PackageFile: smartid_1.0.2.tgz PackageFileSize: 2.118 MiB