Package: smartid Version: 1.0.2 Command: /Library/Frameworks/R.framework/Resources/bin/R CMD check --install=check:smartid.install-out.txt --library=/Library/Frameworks/R.framework/Resources/library --no-vignettes --timings smartid_1.0.2.tar.gz StartedAt: 2024-06-11 06:12:01 -0400 (Tue, 11 Jun 2024) EndedAt: 2024-06-11 06:17:51 -0400 (Tue, 11 Jun 2024) EllapsedTime: 350.0 seconds RetCode: 0 Status: OK CheckDir: smartid.Rcheck Warnings: 0