Package: smartid Version: 1.0.2 Command: rm -rf smartid.buildbin-libdir && mkdir smartid.buildbin-libdir && /Users/biocbuild/BBS/utils/build-universal.sh smartid_1.0.2.tar.gz /Library/Frameworks/R.framework/Resources/bin/R smartid.buildbin-libdir StartedAt: 2024-10-17 17:14:28 -0400 (Thu, 17 Oct 2024) EndedAt: 2024-10-17 17:15:24 -0400 (Thu, 17 Oct 2024) EllapsedTime: 56.4 seconds RetCode: 0 Status: OK PackageFile: smartid_1.0.2.tgz PackageFileSize: 2.117 MiB