Package: smartid Version: 1.0.2 Command: /home/biocbuild/bbs-3.19-bioc/R/bin/R CMD build --keep-empty-dirs --no-resave-data smartid StartedAt: 2024-10-16 20:54:33 -0400 (Wed, 16 Oct 2024) EndedAt: 2024-10-16 20:55:36 -0400 (Wed, 16 Oct 2024) EllapsedTime: 63.1 seconds RetCode: 0 Status: OK PackageFile: smartid_1.0.2.tar.gz PackageFileSize: 1.85 MiB