Package: snapcount Version: 1.16.0 Command: /Library/Frameworks/R.framework/Resources/bin/R CMD check --install=check:snapcount.install-out.txt --library=/Library/Frameworks/R.framework/Resources/library --no-vignettes --timings snapcount_1.16.0.tar.gz StartedAt: 2024-10-17 13:26:22 -0400 (Thu, 17 Oct 2024) EndedAt: 2024-10-17 13:35:01 -0400 (Thu, 17 Oct 2024) EllapsedTime: 519.0 seconds RetCode: 0 Status: OK CheckDir: snapcount.Rcheck Warnings: 0