Package: snm Version: 1.52.0 Command: rm -rf snm.buildbin-libdir && mkdir snm.buildbin-libdir && /Users/biocbuild/BBS/utils/build-universal.sh snm_1.52.0.tar.gz /Library/Frameworks/R.framework/Resources/bin/R snm.buildbin-libdir StartedAt: 2024-10-15 20:23:39 -0400 (Tue, 15 Oct 2024) EndedAt: 2024-10-15 20:23:49 -0400 (Tue, 15 Oct 2024) EllapsedTime: 10.3 seconds RetCode: 0 Status: OK PackageFile: snm_1.52.0.tgz PackageFileSize: 615.3 KiB