Package: snm Version: 1.52.0 Command: /Library/Frameworks/R.framework/Resources/bin/R CMD check --install=check:snm.install-out.txt --library=/Library/Frameworks/R.framework/Resources/library --no-vignettes --timings snm_1.52.0.tar.gz StartedAt: 2024-10-18 12:57:18 -0400 (Fri, 18 Oct 2024) EndedAt: 2024-10-18 13:03:08 -0400 (Fri, 18 Oct 2024) EllapsedTime: 350.7 seconds RetCode: 0 Status: OK CheckDir: snm.Rcheck Warnings: 0