Package: snm Version: 1.52.0 Command: rm -rf snm.buildbin-libdir && mkdir snm.buildbin-libdir && /Users/biocbuild/BBS/utils/build-universal.sh snm_1.52.0.tar.gz /Library/Frameworks/R.framework/Resources/bin/R snm.buildbin-libdir StartedAt: 2024-06-10 00:40:56 -0400 (Mon, 10 Jun 2024) EndedAt: 2024-06-10 00:41:08 -0400 (Mon, 10 Jun 2024) EllapsedTime: 11.4 seconds RetCode: 0 Status: OK PackageFile: snm_1.52.0.tgz PackageFileSize: 614.7 KiB