Package: snm Version: 1.52.0 Command: /Library/Frameworks/R.framework/Resources/bin/R CMD build --keep-empty-dirs --no-resave-data snm StartedAt: 2024-10-16 23:31:18 -0400 (Wed, 16 Oct 2024) EndedAt: 2024-10-16 23:35:22 -0400 (Wed, 16 Oct 2024) EllapsedTime: 243.6 seconds RetCode: 0 Status: OK PackageFile: snm_1.52.0.tar.gz PackageFileSize: 727.8 KiB