Package: snm Version: 1.52.0 Command: rm -rf snm.buildbin-libdir && mkdir snm.buildbin-libdir && F:\biocbuild\bbs-3.19-bioc\R\bin\R.exe CMD INSTALL --build --library=snm.buildbin-libdir snm_1.52.0.tar.gz StartedAt: 2024-06-27 08:57:27 -0400 (Thu, 27 Jun 2024) EndedAt: 2024-06-27 08:57:39 -0400 (Thu, 27 Jun 2024) EllapsedTime: 11.3 seconds RetCode: 0 Status: OK PackageFile: snm_1.52.0.zip PackageFileSize: 457.4 KiB