Package: sparrow Version: 1.10.1 Maintainer: Steve Lianoglou MaintainerEmail: slianoglou at gmail.com git_url: https://git.bioconductor.org/packages/sparrow git_branch: RELEASE_3_19 git_last_commit: d592783 git_last_commit_date: 2024-05-06 17:21:11 -0400 (Mon, 06 May 2024)