Package: sparrow Version: 1.10.1 Command: /Library/Frameworks/R.framework/Resources/bin/R CMD build --keep-empty-dirs --no-resave-data sparrow StartedAt: 2024-06-10 05:12:10 -0400 (Mon, 10 Jun 2024) EndedAt: 2024-06-10 05:17:07 -0400 (Mon, 10 Jun 2024) EllapsedTime: 296.9 seconds RetCode: 0 Status: OK PackageFile: sparrow_1.10.1.tar.gz PackageFileSize: 4.215 MiB