Package: sparrow Version: 1.10.1 Command: /Library/Frameworks/R.framework/Resources/bin/R CMD check --install=check:sparrow.install-out.txt --library=/Library/Frameworks/R.framework/Resources/library --no-vignettes --timings sparrow_1.10.1.tar.gz StartedAt: 2024-06-11 06:23:32 -0400 (Tue, 11 Jun 2024) EndedAt: 2024-06-11 06:38:43 -0400 (Tue, 11 Jun 2024) EllapsedTime: 910.6 seconds RetCode: 0 Status: OK CheckDir: sparrow.Rcheck Warnings: 0