Package: sparrow Version: 1.10.1 Command: rm -rf sparrow.buildbin-libdir && mkdir sparrow.buildbin-libdir && /Users/biocbuild/BBS/utils/build-universal.sh sparrow_1.10.1.tar.gz /Library/Frameworks/R.framework/Resources/bin/R sparrow.buildbin-libdir StartedAt: 2024-10-17 17:15:28 -0400 (Thu, 17 Oct 2024) EndedAt: 2024-10-17 17:16:51 -0400 (Thu, 17 Oct 2024) EllapsedTime: 82.9 seconds RetCode: 0 Status: OK PackageFile: sparrow_1.10.1.tgz PackageFileSize: 4.626 MiB