Package: sparrow Version: 1.10.1 Command: /Library/Frameworks/R.framework/Resources/bin/R CMD build --keep-empty-dirs --no-resave-data sparrow StartedAt: 2024-10-16 23:33:40 -0400 (Wed, 16 Oct 2024) EndedAt: 2024-10-16 23:41:45 -0400 (Wed, 16 Oct 2024) EllapsedTime: 484.8 seconds RetCode: 0 Status: OK PackageFile: sparrow_1.10.1.tar.gz PackageFileSize: 4.212 MiB