Package: sparrow Version: 1.10.1 Command: /Library/Frameworks/R.framework/Resources/bin/R CMD INSTALL sparrow StartedAt: 2024-10-16 16:04:02 -0400 (Wed, 16 Oct 2024) EndedAt: 2024-10-16 16:05:18 -0400 (Wed, 16 Oct 2024) EllapsedTime: 75.6 seconds RetCode: 0 Status: OK